BEGIN:VCALENDAR
VERSION:2.0
PRODID:-//NDIRF - ECPv6.2.2//NONSGML v1.0//EN
CALSCALE:GREGORIAN
METHOD:PUBLISH
X-ORIGINAL-URL:https://www.ndirf.com
X-WR-CALDESC:Events for NDIRF
REFRESH-INTERVAL;VALUE=DURATION:PT1H
X-Robots-Tag:noindex
X-PUBLISHED-TTL:PT1H
BEGIN:VTIMEZONE
TZID:America/Chicago
BEGIN:DAYLIGHT
TZOFFSETFROM:-0600
TZOFFSETTO:-0500
TZNAME:CDT
DTSTART:20240310T080000
END:DAYLIGHT
BEGIN:STANDARD
TZOFFSETFROM:-0500
TZOFFSETTO:-0600
TZNAME:CST
DTSTART:20241103T070000
END:STANDARD
END:VTIMEZONE
BEGIN:VEVENT
DTSTART;TZID=America/Chicago:20240403T100000
DTEND;TZID=America/Chicago:20240403T120000
DTSTAMP:20260420T115342
CREATED:20240321T142321Z
LAST-MODIFIED:20240321T142608Z
UID:2109-1712138400-1712145600@www.ndirf.com
SUMMARY:NDIRF Board of Directors Executive Committee Meeting
DESCRIPTION:The Executive Committee of the Board of Directors of the North Dakota Insurance Reserve Fund (NDIRF) will hold a special meeting on April 3\, 2024\, at 10:00 am CT. The meeting will be held virtually. To access the meeting\, visit: https://ndirf.zoom.us/j/84704130289?pwd=VkVIMG8vTTcwRGhUOXUvS2dKNlMwZz09 \nThe Meeting ID is: 847 0413 0289 and the Passcode is: 835002 \nAt the time this notice is being prepared\, the Executive Committee of the NDIRF Board of Directors expects the agenda of its meeting to include the following topic: \n\nCall to Order\, Roll Call\, and Establishment of Quorum\n\n\nRevise CEO Job Description                      Action Item\n\n\nAdjourn Meeting\n\nDate of Notice: March 21\, 2024
URL:https://www.ndirf.com/event/ndirf-board-of-directors-executive-committee-meeting/
LOCATION:Zoom Video Conference
CATEGORIES:NDIRF
END:VEVENT
BEGIN:VEVENT
DTSTART;TZID=America/Chicago:20240418T140000
DTEND;TZID=America/Chicago:20240418T170000
DTSTAMP:20260420T115342
CREATED:20240408T142413Z
LAST-MODIFIED:20240408T142514Z
UID:2144-1713448800-1713459600@www.ndirf.com
SUMMARY:NDIRF Board of Directors Meeting
DESCRIPTION:The Board of Directors of the North Dakota Insurance Reserve Fund (NDIRF) will hold a special meeting on April 18\, 2024\, at 2:00 p.m. CT. The meeting will be held virtually via Zoom Video Conferencing. To join\, click below: \nhttps://ndirf.zoom.us/j/83297274765?pwd=NlVjQWk3MDZINnJKMXZKeHMzMnpRUT09 \nThe Meeting ID is: 832 9727 4765 and the Passcode is: 945330 \nAt the time this notice is being prepared\, the Board of Directors of the NDIRF expects the agenda of its meeting to include the following topics: \n\nCall to Order\, Roll Call\, and Establishment of Quorum\nCEO Job Description / Search Status Update\nManagement Team Transition Update\nAdjourn Meeting\n\nDate of Notice: April 5\, 2024
URL:https://www.ndirf.com/event/ndirf-board-of-directors-meeting-5/
LOCATION:Zoom Video Conference
CATEGORIES:NDIRF
END:VEVENT
END:VCALENDAR