BEGIN:VCALENDAR
VERSION:2.0
PRODID:-//NDIRF - ECPv6.2.2//NONSGML v1.0//EN
CALSCALE:GREGORIAN
METHOD:PUBLISH
X-ORIGINAL-URL:https://www.ndirf.com
X-WR-CALDESC:Events for NDIRF
REFRESH-INTERVAL;VALUE=DURATION:PT1H
X-Robots-Tag:noindex
X-PUBLISHED-TTL:PT1H
BEGIN:VTIMEZONE
TZID:America/Chicago
BEGIN:DAYLIGHT
TZOFFSETFROM:-0600
TZOFFSETTO:-0500
TZNAME:CDT
DTSTART:20240310T080000
END:DAYLIGHT
BEGIN:STANDARD
TZOFFSETFROM:-0500
TZOFFSETTO:-0600
TZNAME:CST
DTSTART:20241103T070000
END:STANDARD
END:VTIMEZONE
BEGIN:VEVENT
DTSTART;TZID=America/Chicago:20241107T093000
DTEND;TZID=America/Chicago:20241107T103000
DTSTAMP:20260420T021448
CREATED:20241101T162342Z
LAST-MODIFIED:20241101T162739Z
UID:2574-1730971800-1730975400@www.ndirf.com
SUMMARY:BOARD OF DIRECTORS MEETING NOTICE FINANCE COMMITTEE
DESCRIPTION:The Finance Committee of the Board of Directors of the North Dakota Insurance Reserve Fund (NDIRF) will hold a regularly scheduled meeting on November 7\, 2024 at 9:30 A.M. CT. The meeting will be held in person at 1320 West Century Avenue\, Bismarck\, ND and virtually via Zoom Video Conferencing. To join\, click below: \nhttps://ndirf.zoom.us/j/89613036575?pwd=ONHPLcduyqHKae0d6rvpRt13VHOMbR.1 \nMeeting ID is: 896 1303 6575 and the Passcode is: 794524 \nAt the time this notice is being prepared\, the Finance Committee of the NDIRF Board of Directors expects the agenda of its meeting to include the following topics: \n\nReview and acceptance of the 3rd Quarter 2024 Investment Report\nDiscussion regarding 2025 Budget\n\nDate of Notice: October 31\, 2024
URL:https://www.ndirf.com/event/board-of-directors-meeting-notice-finance-committee/
CATEGORIES:NDIRF
END:VEVENT
BEGIN:VEVENT
DTSTART;TZID=America/Chicago:20241126T103000
DTEND;TZID=America/Chicago:20241126T113000
DTSTAMP:20260420T021448
CREATED:20241126T223223Z
LAST-MODIFIED:20241126T223330Z
UID:2614-1732617000-1732620600@www.ndirf.com
SUMMARY:BOARD OF DIRECTORS MEETING NOTICE NOMINATING COMMITTEE
DESCRIPTION:The Nominating Committee of the Board of Directors of the North Dakota Insurance Reserve Fund (NDIRF) will hold a special meeting on November 27\, 2024\, at 10:30 A.M. CST. The meeting will be held virtually at https://ndirf.zoom.us/j/89942043804?pwd=J5G4nFplvLseUWNu16V2s97czONcCz.1. The meeting ID is 899 4204 3804\, and the access code is 951140. \nAt the time this notice is being prepared\, the Nominating Committee of the NDIRF Board of Directors expects the agenda of its meeting to include the following topic: \n1. Review and recommendation of candidates for appointments to two open positions on the NDIRF Board of Directors \nDate of Notice: November 26\, 2024
URL:https://www.ndirf.com/event/board-of-directors-meeting-notice-nominating-committee/
LOCATION:Zoom Video Conference
CATEGORIES:NDIRF
END:VEVENT
END:VCALENDAR