BEGIN:VCALENDAR
VERSION:2.0
PRODID:-//NDIRF - ECPv6.2.2//NONSGML v1.0//EN
CALSCALE:GREGORIAN
METHOD:PUBLISH
X-WR-CALNAME:NDIRF
X-ORIGINAL-URL:https://www.ndirf.com
X-WR-CALDESC:Events for NDIRF
REFRESH-INTERVAL;VALUE=DURATION:PT1H
X-Robots-Tag:noindex
X-PUBLISHED-TTL:PT1H
BEGIN:VTIMEZONE
TZID:America/Chicago
BEGIN:DAYLIGHT
TZOFFSETFROM:-0600
TZOFFSETTO:-0500
TZNAME:CDT
DTSTART:20250309T080000
END:DAYLIGHT
BEGIN:STANDARD
TZOFFSETFROM:-0500
TZOFFSETTO:-0600
TZNAME:CST
DTSTART:20251102T070000
END:STANDARD
END:VTIMEZONE
BEGIN:VEVENT
DTSTART;TZID=America/Chicago:20250721T093000
DTEND;TZID=America/Chicago:20250721T093000
DTSTAMP:20260419T152554
CREATED:20250708T182636Z
LAST-MODIFIED:20250708T182904Z
UID:3287-1753090200-1753090200@www.ndirf.com
SUMMARY:NDIRF Board of Directors Executive Committee Meeting
DESCRIPTION:BOARD OF DIRECTORS  \nEXECUTIVE COMMITTEE MEETING NOTICE \nThe Executive Committee of the Board of Directors of the North Dakota Insurance Reserve Fund (NDIRF) will hold a special meeting on July 21\, 2025\, at 9:30 AM. \nThe meeting will be held virtually at https://ndirf.zoom.us/j/81489147238?pwd=VhbIi8yyRrftWT6CeIAy7ejiggdcBr.1. The meeting ID is 81489147238\, and the access code is 714236. \nAt the time this notice is being prepared\, the Executive Committee of the Board of Directors of the NDIRF expects the agenda of its meeting to include the following topics: \n\nUpdate on Bylaws and Board policy manual draft changes\nUpdate on responses to Insurance Department audit recommendations\n\nDate of Notice: July 8\, 2025
URL:https://www.ndirf.com/event/ndirf-board-of-directors-executive-committee-meeting-2/
CATEGORIES:NDIRF
END:VEVENT
BEGIN:VEVENT
DTSTART;TZID=America/Chicago:20250722T080000
DTEND;TZID=America/Chicago:20250723T170000
DTSTAMP:20260419T152554
CREATED:20250721T203845Z
LAST-MODIFIED:20250922T202501Z
UID:3347-1753171200-1753290000@www.ndirf.com
SUMMARY:2025 NDLETS Conference
DESCRIPTION:The NDLETS Conference brings together law enforcement professionals and public safety dispatchers to learn about the latest public safety innovations and best practices. \n\nJuly 22 from 8 AM – 5 PM\nJuly 23 from 8 AM – 5 PM\n\nDoors open at 7 AM both days \nEVENT DETAILS
URL:https://www.ndirf.com/event/2025-ndlets-conference/
LOCATION:Radisson Hotel Bismarck\, 605 East Broadway Avenue\, Bismarck\, ND\, 58501\, United States
CATEGORIES:NDIRF
END:VEVENT
BEGIN:VEVENT
DTSTART;TZID=America/Chicago:20250730T130000
DTEND;TZID=America/Chicago:20250731T120000
DTSTAMP:20260419T152554
CREATED:20250922T201118Z
LAST-MODIFIED:20250922T202452Z
UID:3360-1753880400-1753963200@www.ndirf.com
SUMMARY:2025 NDIRF Fargo Regional Meeting
DESCRIPTION:Presented at four different locations around the state\, this regional meeting is part of a series meetings offering learning opportunities for North Dakota Insurance Reserve (NDIRF) members and agents. Attendees gained a better understanding of their coverage options\, risk management services\, and North Dakota State Fire and Tornado Fund (NDFT) coverage. \nThe NDIRF Team Speakers: \n\nNDIRF History – Keith Pic (CEO)\nClaims – Tony Burbach (Director of Claims)\nMember Services – Corey Olson (Director of Member Services)\nHR Collaborative – Dani Krause (Staff Legal Counsel)\nUnderwriting – Jordan Wahl (Director of Underwriting)
URL:https://www.ndirf.com/event/2025-ndirf-fargo-regional-meeting/
LOCATION:NDSU Campus\, Barry Hall – Louise S. Barry Auditorium\, 811 2nd Ave\, North Fargo\, ND\, 58102\, United States
CATEGORIES:NDIRF
ORGANIZER;CN="Keith Pic":MAILTO:keith.pic@ndirf.com
END:VEVENT
END:VCALENDAR