BEGIN:VCALENDAR
VERSION:2.0
PRODID:-//NDIRF - ECPv6.2.2//NONSGML v1.0//EN
CALSCALE:GREGORIAN
METHOD:PUBLISH
X-WR-CALNAME:NDIRF
X-ORIGINAL-URL:https://www.ndirf.com
X-WR-CALDESC:Events for NDIRF
REFRESH-INTERVAL;VALUE=DURATION:PT1H
X-Robots-Tag:noindex
X-PUBLISHED-TTL:PT1H
BEGIN:VTIMEZONE
TZID:America/Chicago
BEGIN:DAYLIGHT
TZOFFSETFROM:-0600
TZOFFSETTO:-0500
TZNAME:CDT
DTSTART:20250309T080000
END:DAYLIGHT
BEGIN:STANDARD
TZOFFSETFROM:-0500
TZOFFSETTO:-0600
TZNAME:CST
DTSTART:20251102T070000
END:STANDARD
END:VTIMEZONE
BEGIN:VEVENT
DTSTART;TZID=America/Chicago:20250806T130000
DTEND;TZID=America/Chicago:20250807T120000
DTSTAMP:20260419T141255
CREATED:20250922T201140Z
LAST-MODIFIED:20250922T202445Z
UID:3356-1754485200-1754568000@www.ndirf.com
SUMMARY:2025 NDIRF Minot Regional Meeting
DESCRIPTION:Presented at four different locations around the state\, this regional meeting is part of a series meetings offering learning opportunities for North Dakota Insurance Reserve (NDIRF) members and agents. Attendees gained a better understanding of their coverage options\, risk management services\, and North Dakota State Fire and Tornado Fund (NDFT) coverage. \nThe NDIRF Team Speakers: \n\nNDIRF History – Keith Pic (CEO)\nClaims – Tony Burbach (Director of Claims)\nMember Services – Corey Olson (Director of Member Services)\nHR Collaborative – Dani Krause (Staff Legal Counsel)\nUnderwriting – Jordan Wahl (Director of Underwriting)
URL:https://www.ndirf.com/event/2025-ndirf-minot-regional-meeting/
LOCATION:Minot City Hall – Council Chambers\, 10 Third Ave SW\, Minot\, ND\, 58701\, United States
CATEGORIES:NDIRF
ORGANIZER;CN="Keith Pic":MAILTO:keith.pic@ndirf.com
END:VEVENT
BEGIN:VEVENT
DTSTART;TZID=America/Chicago:20250812T070000
DTEND;TZID=America/Chicago:20250815T110000
DTSTAMP:20260419T141255
CREATED:20250922T201052Z
LAST-MODIFIED:20250922T202438Z
UID:3369-1754982000-1755255600@www.ndirf.com
SUMMARY:114th Annual North Dakota Peace Officers Association Conference
DESCRIPTION:
URL:https://www.ndirf.com/event/114th-annual-north-dakota-peace-officers-association-conference/
LOCATION:Dickinson State University\, 291 Campus Dr\, Dickinson\, ND\, 58601\, United States
CATEGORIES:NDIRF
END:VEVENT
END:VCALENDAR