BEGIN:VCALENDAR
VERSION:2.0
PRODID:-//NDIRF - ECPv6.2.2//NONSGML v1.0//EN
CALSCALE:GREGORIAN
METHOD:PUBLISH
X-ORIGINAL-URL:https://www.ndirf.com
X-WR-CALDESC:Events for NDIRF
REFRESH-INTERVAL;VALUE=DURATION:PT1H
X-Robots-Tag:noindex
X-PUBLISHED-TTL:PT1H
BEGIN:VTIMEZONE
TZID:America/Chicago
BEGIN:DAYLIGHT
TZOFFSETFROM:-0600
TZOFFSETTO:-0500
TZNAME:CDT
DTSTART:20250309T080000
END:DAYLIGHT
BEGIN:STANDARD
TZOFFSETFROM:-0500
TZOFFSETTO:-0600
TZNAME:CST
DTSTART:20251102T070000
END:STANDARD
END:VTIMEZONE
BEGIN:VEVENT
DTSTART;TZID=America/Chicago:20250902T124500
DTEND;TZID=America/Chicago:20250904T124500
DTSTAMP:20260419T130300
CREATED:20250902T152333Z
LAST-MODIFIED:20250922T202432Z
UID:3497-1756817100-1756989900@www.ndirf.com
SUMMARY:BOARD OF DIRECTORS - EXECUTIVE COMMITTEE MEETING NOTICE
DESCRIPTION:BOARD OF DIRECTORS\nEXECUTIVE COMMITTEE MEETING NOTICE \nThe Executive Committee of the Board of Directors of the North Dakota Insurance Reserve Fund (NDIRF) will hold a special meeting on September 4\, 2025\, at 12:45 PM. The meeting will be held in person at 1022 E Divide Ave\, Bismarck\, ND and via Zoom at: \nhttps://ndirf.zoom.us/j/85223830539?pwd=mMaxBbZwadKfUp8PHDbDwxBNBLxOwv.1 \nMeeting ID: 852 2383 0539\nPasscode: 595290 \nAt the time this notice is being prepared\, the NDIRF Board of Directors Executive Committee expects the agenda of its meeting to include the following topics: \n\nAction on Minutes of July 21\, 2025 NDIRF Executive Committee Meeting\nBoard member out-of-state travel request review\n\nDate of Notice: September 2\, 2025
URL:https://www.ndirf.com/event/board-of-directors-executive-committee-meeting-notice/
CATEGORIES:NDIRF
END:VEVENT
BEGIN:VEVENT
DTSTART;TZID=America/Chicago:20250904T120000
DTEND;TZID=America/Chicago:20250904T120000
DTSTAMP:20260419T130300
CREATED:20250902T151933Z
LAST-MODIFIED:20250922T202416Z
UID:3492-1756987200-1756987200@www.ndirf.com
SUMMARY:BOARD OF DIRECTORS MEETING NOTICE - FINANCE COMMITTEE
DESCRIPTION:BOARD OF DIRECTORS MEETING NOTICE\nFINANCE COMMITTEE \nThe Finance Committee of the Board of Directors of the North Dakota Insurance Reserve Fund (NDIRF) will hold a regularly scheduled meeting on September 4\, 2025\, at 12:00 PM. The meeting will be held in person at 1022 E Divide Ave\, Bismarck\, ND and via Zoom at: \nhttps://ndirf.zoom.us/j/88115297005?pwd=iypg3Ad3BOS9KdjDjbNGUR491G9GUl.1 \nMeeting ID: 881 1529 7005\nPasscode: 528103 \nAt the time this notice is being prepared\, the Finance Committee of the NDIRF Board of Directors expects the agenda of its meeting to include the following topics: \n\nAction on Minutes of May 8\, 2025 NDIRF Finance Committee Meeting\n2025 Claims Audit Update\nFinance Committee Annual Evaluation\nInvestment and Members Equity Policy Review\nReview and acceptance of the 2nd Quarter 2025 Investment Report\nPreliminary 2026 Budget Discussion\n\nDate of Notice: September 2\, 2025 \n\n  \n 
URL:https://www.ndirf.com/event/board-of-directors-meeting-notice-finance-committee-3/
CATEGORIES:NDIRF
END:VEVENT
BEGIN:VEVENT
DTSTART;TZID=America/Chicago:20250904T130000
DTEND;TZID=America/Chicago:20250904T130000
DTSTAMP:20260419T130300
CREATED:20241205T181614Z
LAST-MODIFIED:20250922T202408Z
UID:2661-1756990800-1756990800@www.ndirf.com
SUMMARY:NDIRF Board of Directors Meeting
DESCRIPTION:BOARD OF DIRECTORS MEETING NOTICE \nThe Board of Directors of the North Dakota Insurance Reserve Fund (NDIRF) will hold a regularly scheduled meeting on September 4\, 2025\, at 1:00 pm. The meeting will be held in person at 1022 E Divide Ave\, Bismarck\, ND and via Zoom at: \nhttps://ndirf.zoom.us/j/87209736044?pwd=7igFXLs3DO9TYAnzgoY22m0ApK1jRs.1 \nMeeting ID: 872 0973 6044            Passcode: 691826 \nAt the time this notice is being prepared\, the NDIRF Board of Directors expects the agenda of its meeting to include the following topics: \n\nAction on Minutes of May 8\, 2025 NDIRF Board Meeting\nReports\nA. Chairperson’s Report\nB. Reports of Board Members\nC. CEO’s Report\nD. Finance Department Report\nE. Claims Department Report\nF. Underwriting Department Report\nG. Member Services Department Report\nH.IT Department Report\nI. Finance Committee Report (Meeting of September 4\, 2025)\nUnfinished Business:\nA. NDFT Contract Update\nNew Business:\nA. Vision Statement and Values Presentation\nB. NDIRF Bylaws Amendments\nC. Board Policy Manual Amendments\nD. Litigation Update – Edner v. City of Wahpeton et al.\nE. No-Fault Water/Sewer Backup Coverage\nF. AI Governance Presentation\nG. Measure of Damages Presentation\nH. Key Financials & Organizational Structure Presentation\n\n  \nDate of Notice: September 3\, 2025
URL:https://www.ndirf.com/event/ndirf-board-of-directors-meeting-7/
CATEGORIES:NDIRF
END:VEVENT
BEGIN:VEVENT
DTSTART;TZID=America/Chicago:20250917T140000
DTEND;TZID=America/Chicago:20250919T143000
DTSTAMP:20260419T130300
CREATED:20250916T213419Z
LAST-MODIFIED:20250922T202403Z
UID:3575-1758117600-1758292200@www.ndirf.com
SUMMARY:NDLC Annual Conference
DESCRIPTION:The North Dakota League of Cities will host its annual conference from September 17 to 19\, 2025.
URL:https://www.ndirf.com/event/ndlc-annual-conference/
LOCATION:Bismarck Event Center\, 315 5th South Street\, Bismarck\, ND\, 58504\, United States
CATEGORIES:NDIRF
END:VEVENT
BEGIN:VEVENT
DTSTART;TZID=America/Chicago:20250917T170000
DTEND;TZID=America/Chicago:20250919T143000
DTSTAMP:20260419T130300
CREATED:20250922T210601Z
LAST-MODIFIED:20250922T210601Z
UID:3609-1758128400-1758292200@www.ndirf.com
SUMMARY:2025 NDLC Annual Conference
DESCRIPTION:The North Dakota League of Cities is hosting its annual conference in Bismarck on September 18 and 19. Here’s the registration and agenda link. \nNDIRF SPEAKERS \n\nOctober 18 – Dani Krause\, COO/Legal Counsel\n The Family and Medical Leave Act (FMLA) and Cities: Practical Guidance for Municipal Employers\nSeptember 19 – Keith Pic\, CEO\nBlighted Properties: Understanding Liability\, Risk\, and Coverage
URL:https://www.ndirf.com/event/2025-ndlc-annual-conference/
LOCATION:Bismarck Event Center\, 315 5th South Street\, Bismarck\, ND\, 58504\, United States
CATEGORIES:NDIRF
END:VEVENT
BEGIN:VEVENT
DTSTART;TZID=America/Chicago:20250930T110000
DTEND;TZID=America/Chicago:20251002T230000
DTSTAMP:20260419T130300
CREATED:20250922T204801Z
LAST-MODIFIED:20250922T204801Z
UID:3605-1759230000-1759446000@www.ndirf.com
SUMMARY:2025 NDRPA Annual Conference
DESCRIPTION:North Dakota park and recreation professionals are invited to the North Dakota Recreation & Parks Association’s (NDRPA) the 2025 NDRPA Annual Conference\, September 30 – October 2. \nThis event will be held at two different locations in Fargo. \nDay 1: Fargo Parks Sports Center\n6100 38th Street South\nFargo \nDay 2: Holiday Inn Fargo\n3803 13th Ave South\nFargo \nHere’s the full schedule for the 2025 NDRPA Annual Conference.
URL:https://www.ndirf.com/event/2025-ndrpa-annual-conference/
LOCATION:Fargo\, ND\, Fargo\, ND\, United States
CATEGORIES:NDIRF
END:VEVENT
END:VCALENDAR