BEGIN:VCALENDAR
VERSION:2.0
PRODID:-//NDIRF - ECPv6.2.2//NONSGML v1.0//EN
CALSCALE:GREGORIAN
METHOD:PUBLISH
X-WR-CALNAME:NDIRF
X-ORIGINAL-URL:https://www.ndirf.com
X-WR-CALDESC:Events for NDIRF
REFRESH-INTERVAL;VALUE=DURATION:PT1H
X-Robots-Tag:noindex
X-PUBLISHED-TTL:PT1H
BEGIN:VTIMEZONE
TZID:America/Chicago
BEGIN:DAYLIGHT
TZOFFSETFROM:-0600
TZOFFSETTO:-0500
TZNAME:CDT
DTSTART:20250309T080000
END:DAYLIGHT
BEGIN:STANDARD
TZOFFSETFROM:-0500
TZOFFSETTO:-0600
TZNAME:CST
DTSTART:20251102T070000
END:STANDARD
END:VTIMEZONE
BEGIN:VEVENT
DTSTART;TZID=America/Chicago:20251106T093000
DTEND;TZID=America/Chicago:20251106T093000
DTSTAMP:20260419T103042
CREATED:20250708T183343Z
LAST-MODIFIED:20251029T212237Z
UID:3300-1762421400-1762421400@www.ndirf.com
SUMMARY:NDIRF Finance Committee Meeting
DESCRIPTION:BOARD OF DIRECTORS MEETING NOTICE \nFINANCE COMMITTEE \nThe Finance Committee of the Board of Directors of the North Dakota Insurance Reserve Fund (NDIRF) will hold a regularly scheduled meeting on November 6\, 2025\, at 9:30 AM. The meeting will be held in person at 1022 E Divide Ave\, Bismarck\, ND and via Zoom at: \nhttps://ndirf.zoom.us/j/89168363747?pwd=QhcUpoMfkuhtHKmjviNl4d8FPmiOX2.1 \nMeeting ID: 891 6836 3747          Passcode: 802596 \nAt the time this notice is being prepared\, the Finance Committee of the NDIRF Board of Directors expects the agenda of its meeting to include the following topics: \n\nAction on Minutes of September 4\, 2025\, NDIRF Finance Committee Meeting\nReview and Acceptance of the 3rd Quarter 2025 Investment Report\n2026 Budget Discussion\n\n  \nDate of Notice: October 29\, 2025 \n 
URL:https://www.ndirf.com/event/ndirf-finance-committee-meeting-4/
LOCATION:NDIRF Office\, 1022 E Divide Ave\, Bismarck\, ND\, 58502\, United States
CATEGORIES:NDIRF
END:VEVENT
BEGIN:VEVENT
DTSTART;TZID=America/Chicago:20251117T130000
DTEND;TZID=America/Chicago:20251119T130000
DTSTAMP:20260419T103042
CREATED:20251002T171253Z
LAST-MODIFIED:20251002T171253Z
UID:3679-1763384400-1763557200@www.ndirf.com
SUMMARY:Dakota Territory Sheriff's Conference
DESCRIPTION:North Dakota and South Dakota sheriffs and deputies are invited by the North Dakota Association of Counties to the Dakota Territory Sheriff’s Conference. Presentations and workshops will include topics pertaining to officer wellness\, de-escalation tactics\, and more.
URL:https://www.ndirf.com/event/dakota-territory-sheriffs-conference/
LOCATION:Delta Mariott\, 1635 42nd St SW\, Fargo\, 58103\, United States
CATEGORIES:NDIRF
END:VEVENT
END:VCALENDAR