BEGIN:VCALENDAR
VERSION:2.0
PRODID:-//NDIRF - ECPv6.2.2//NONSGML v1.0//EN
CALSCALE:GREGORIAN
METHOD:PUBLISH
X-ORIGINAL-URL:https://www.ndirf.com
X-WR-CALDESC:Events for NDIRF
REFRESH-INTERVAL;VALUE=DURATION:PT1H
X-Robots-Tag:noindex
X-PUBLISHED-TTL:PT1H
BEGIN:VTIMEZONE
TZID:America/Chicago
BEGIN:DAYLIGHT
TZOFFSETFROM:-0600
TZOFFSETTO:-0500
TZNAME:CDT
DTSTART:20240310T080000
END:DAYLIGHT
BEGIN:STANDARD
TZOFFSETFROM:-0500
TZOFFSETTO:-0600
TZNAME:CST
DTSTART:20241103T070000
END:STANDARD
END:VTIMEZONE
BEGIN:VEVENT
DTSTART;TZID=America/Chicago:20241218T133000
DTEND;TZID=America/Chicago:20241219T143000
DTSTAMP:20260420T021612
CREATED:20241217T191229Z
LAST-MODIFIED:20241217T191229Z
UID:2705-1734528600-1734618600@www.ndirf.com
SUMMARY:NDIRF Executive Committee Meeting Notice
DESCRIPTION:The Executive Committee of the Board of Directors of the North Dakota Insurance Reserve Fund (NDIRF) will hold a special meeting on December 18\, 2024\, at 1:30 P.M. CST. The meeting will be held virtually at https://ndirf.zoom.us/j/87460885704?pwd=cZa9VamYKX5gHm3ffm3LGOxQnUi90l.1. The meeting ID is 874 6088 5704\, and the access code is 200937. \nAt the time this notice is being prepared\, the NDIRF Board of Directors Executive Committee expects the agenda of its meeting to include the following topics: \n\nBoard member out-of-state travel request review\n\nDate of Notice: December 17\, 2024
URL:https://www.ndirf.com/event/ndirf-executive-committee-meeting-notice/
LOCATION:Zoom Video Conference
CATEGORIES:NDIRF
END:VEVENT
END:VCALENDAR