BEGIN:VCALENDAR
VERSION:2.0
PRODID:-//NDIRF - ECPv6.2.2//NONSGML v1.0//EN
CALSCALE:GREGORIAN
METHOD:PUBLISH
X-WR-CALNAME:NDIRF
X-ORIGINAL-URL:https://www.ndirf.com
X-WR-CALDESC:Events for NDIRF
REFRESH-INTERVAL;VALUE=DURATION:PT1H
X-Robots-Tag:noindex
X-PUBLISHED-TTL:PT1H
BEGIN:VTIMEZONE
TZID:America/Chicago
BEGIN:DAYLIGHT
TZOFFSETFROM:-0600
TZOFFSETTO:-0500
TZNAME:CDT
DTSTART:20250309T080000
END:DAYLIGHT
BEGIN:STANDARD
TZOFFSETFROM:-0500
TZOFFSETTO:-0600
TZNAME:CST
DTSTART:20251102T070000
END:STANDARD
END:VTIMEZONE
BEGIN:VEVENT
DTSTART;TZID=America/Chicago:20250206T120000
DTEND;TZID=America/Chicago:20250206T123000
DTSTAMP:20260419T233157
CREATED:20250201T152932Z
LAST-MODIFIED:20250205T204918Z
UID:2761-1738843200-1738845000@www.ndirf.com
SUMMARY:NDIRF BOARD OF DIRECTORS FINANCE COMMITTEE MEETING
DESCRIPTION:BOARD OF DIRECTORS MEETING NOTICE \nFINANCE COMMITTEE \n The Finance Committee of the Board of Directors of the North Dakota Insurance Reserve Fund (NDIRF) will hold a regularly scheduled meeting on February 6\, 2025\, at 12:00 P.M. The meeting will be held in person at 1320 West Century Avenue\, Bismarck\, ND and virtually. To access the meeting virtually\, visit https://ndirf.zoom.us/j/81536175885?pwd=Fr9Bz3OG977V2IOfxpFDdq1axn04sb.1. The meeting ID is 815 3617 5885\, and the passcode is 543407. \nAt the time this notice is being prepared\, the Finance Committee of the NDIRF Board of Directors expects the agenda of its meeting to include the following topics: \n\n2024 4th Quarter Investment Report Review\nAnnual Evaluation of Portfolio Management for the 2024 Calendar Year\nConsideration of Follow-up Claims Audit\n\nDate of Notice: February 5\, 2025
URL:https://www.ndirf.com/event/ndirf-board-of-directors-finance-committee-meeting/
CATEGORIES:NDIRF
END:VEVENT
END:VCALENDAR