BEGIN:VCALENDAR
VERSION:2.0
PRODID:-//NDIRF - ECPv6.2.2//NONSGML v1.0//EN
CALSCALE:GREGORIAN
METHOD:PUBLISH
X-ORIGINAL-URL:https://www.ndirf.com
X-WR-CALDESC:Events for NDIRF
REFRESH-INTERVAL;VALUE=DURATION:PT1H
X-Robots-Tag:noindex
X-PUBLISHED-TTL:PT1H
BEGIN:VTIMEZONE
TZID:America/Chicago
BEGIN:DAYLIGHT
TZOFFSETFROM:-0600
TZOFFSETTO:-0500
TZNAME:CDT
DTSTART:20250309T080000
END:DAYLIGHT
BEGIN:STANDARD
TZOFFSETFROM:-0500
TZOFFSETTO:-0600
TZNAME:CST
DTSTART:20251102T070000
END:STANDARD
END:VTIMEZONE
BEGIN:VEVENT
DTSTART;TZID=America/Chicago:20250325T130000
DTEND;TZID=America/Chicago:20250325T160000
DTSTAMP:20260419T220813
CREATED:20250324T194151Z
LAST-MODIFIED:20250324T194151Z
UID:2885-1742907600-1742918400@www.ndirf.com
SUMMARY:BOARD OF DIRECTORS MEETING NOTICE FINANCE COMMITTEE
DESCRIPTION:The Finance Committee of the Board of Directors of the North Dakota Insurance Reserve Fund (NDIRF) will hold a special meeting on March 25\, 2025\, at 1:00 P.M. The meeting will be held virtually via Zoom Video Conference: \nhttps://ndirf.zoom.us/j/87566267742?pwd=yYUlDNbsMewOqpNytT5ORbjzMyg9zK.1 \nThe meeting ID is 875 6626 7742\, and the access code is 010327. \nAt the time this notice is being prepared\, the Finance Committee of the NDIRF Board of Directors expects the agenda of its meeting to include the following topic: \n\nReview of building purchase offer received for property located at 1320 West Century Avenue\, Bismarck\, ND 58503.\nAs allowed pursuant to N.D.C.C. § 44-04-19.2\, the Finance Committee of the Board of Directors of the NDIRF expects to enter into executive session under N.D.C.C. § 44-04-19.1(9) to discuss negotiating strategy or provide negotiating instructions regarding a pending contract to sell real property.\n\nDate of Notice: March 24\, 2025
URL:https://www.ndirf.com/event/board-of-directors-meeting-notice-finance-committee-2/
LOCATION:Zoom Video Conference
CATEGORIES:NDIRF
END:VEVENT
END:VCALENDAR