BEGIN:VCALENDAR
VERSION:2.0
PRODID:-//NDIRF - ECPv6.2.2//NONSGML v1.0//EN
CALSCALE:GREGORIAN
METHOD:PUBLISH
X-WR-CALNAME:NDIRF
X-ORIGINAL-URL:https://www.ndirf.com
X-WR-CALDESC:Events for NDIRF
REFRESH-INTERVAL;VALUE=DURATION:PT1H
X-Robots-Tag:noindex
X-PUBLISHED-TTL:PT1H
BEGIN:VTIMEZONE
TZID:America/Chicago
BEGIN:DAYLIGHT
TZOFFSETFROM:-0600
TZOFFSETTO:-0500
TZNAME:CDT
DTSTART:20250309T080000
END:DAYLIGHT
BEGIN:STANDARD
TZOFFSETFROM:-0500
TZOFFSETTO:-0600
TZNAME:CST
DTSTART:20251102T070000
END:STANDARD
END:VTIMEZONE
BEGIN:VEVENT
DTSTART;TZID=America/Chicago:20251008T073000
DTEND;TZID=America/Chicago:20251010T170000
DTSTAMP:20260419T130942
CREATED:20251002T154154Z
LAST-MODIFIED:20251002T154154Z
UID:3659-1759908600-1760115600@www.ndirf.com
SUMMARY:2025 Dakotas 911 Conference
DESCRIPTION:The 2025 Dakota 911 Conference brings 911 dispatchers\, supervisors\, managers\, and partners together for presentations and breakout sessions by the North Dakota APCO.
URL:https://www.ndirf.com/event/2025-dakotas-911-conference/
LOCATION:Radisson Hotel Bismarck\, 605 East Broadway Avenue\, Bismarck\, ND\, 58501\, United States
CATEGORIES:NDIRF
END:VEVENT
BEGIN:VEVENT
DTSTART;TZID=America/Chicago:20251009T070000
DTEND;TZID=America/Chicago:20251010T150000
DTSTAMP:20260419T130942
CREATED:20251002T160847Z
LAST-MODIFIED:20251002T160847Z
UID:3664-1759993200-1760108400@www.ndirf.com
SUMMARY:2025 NDSBA Annual Convention & Law School Seminar
DESCRIPTION:The 2025 NDSBA Annual Convention brings North Dakota school board members\, administrators\, business managers\, and human resource professionals together for presentations and sessions by the North Dakota School Boards Association.
URL:https://www.ndirf.com/event/2025-ndsba-annual-convention-law-school-seminar/
LOCATION:Bismarck Event Center\, 315 5th South Street\, Bismarck\, ND\, 58504\, United States
CATEGORIES:NDIRF
END:VEVENT
END:VCALENDAR