BEGIN:VCALENDAR
VERSION:2.0
PRODID:-//NDIRF - ECPv6.2.2//NONSGML v1.0//EN
CALSCALE:GREGORIAN
METHOD:PUBLISH
X-WR-CALNAME:NDIRF
X-ORIGINAL-URL:https://www.ndirf.com
X-WR-CALDESC:Events for NDIRF
REFRESH-INTERVAL;VALUE=DURATION:PT1H
X-Robots-Tag:noindex
X-PUBLISHED-TTL:PT1H
BEGIN:VTIMEZONE
TZID:America/Chicago
BEGIN:DAYLIGHT
TZOFFSETFROM:-0600
TZOFFSETTO:-0500
TZNAME:CDT
DTSTART:20250309T080000
END:DAYLIGHT
BEGIN:STANDARD
TZOFFSETFROM:-0500
TZOFFSETTO:-0600
TZNAME:CST
DTSTART:20251102T070000
END:STANDARD
END:VTIMEZONE
BEGIN:VEVENT
DTSTART;TZID=America/Chicago:20251204T093000
DTEND;TZID=America/Chicago:20251204T093000
DTSTAMP:20260419T103348
CREATED:20241205T181518Z
LAST-MODIFIED:20251201T150238Z
UID:2658-1764840600-1764840600@www.ndirf.com
SUMMARY:NDIRF Board of Directors Meeting
DESCRIPTION:BOARD OF DIRECTORS MEETING NOTICE \nThe Board of Directors of the North Dakota Insurance Reserve Fund (NDIRF) will hold a regularly scheduled meeting on December 4\, 2025\, at 9:30 am. The meeting will be held in person at 1022 E Divide Ave\, Bismarck\, ND and via Zoom at: \nhttps://ndirf.zoom.us/j/88096582568?pwd=p3xU1xXQDQIsHraWkvdb8HNbU1inS3.1 \nMeeting ID: 880 9658 2568 Passcode: 963148 \nAt the time this notice is being prepared\, the NDIRF Board of Directors expects the agenda of its meeting to include the following topics: \n1. Action on Minutes of September 4\, 2025 NDIRF Board Meeting \n2. Reports \nA. Chairperson’s Report \nB. Reports of Board Members \nC. CEO’s Report \nD. Finance Department Report \nE. Claims Department Report \nF. Underwriting Department Report \nG. Member Services Department Report \nH. IT Department Report \nI. Finance Committee Report (Meeting of November 6\, 2025) \n  \n3. Unfinished Business: \nA. Public Sewer Back-Up and Water Main Break Coverage Update \nB. 2025 Farley Consulting Claims Audit \n  \n4. New Business: \nA. Strategic Board Composition Matrix \nB. Board Onboarding/Training Plan Discussion \nC. Board Meeting Minutes Distribution Discussion \nD. Annual Contract Report \nE. Agent Fee Discussion \nF. Agent Distribution of Product Discussion \nG. Business Continuity Discussion \nH. 2025 Conferment of Benefits \nI. 2026 NDIRF Board Election Announcement \nJ. 2026 Board Meeting and Finance Committee Meeting Schedules \nK. CEO Performance Review \n  \nDate of Notice: November 26\, 2025
URL:https://www.ndirf.com/event/ndirf-board-of-directors-meeting-3/
LOCATION:NDIRF Office\, 1022 E Divide Ave\, Bismarck\, ND\, 58502\, United States
CATEGORIES:NDIRF
END:VEVENT
END:VCALENDAR