BEGIN:VCALENDAR
VERSION:2.0
PRODID:-//NDIRF - ECPv6.2.2//NONSGML v1.0//EN
CALSCALE:GREGORIAN
METHOD:PUBLISH
X-ORIGINAL-URL:https://www.ndirf.com
X-WR-CALDESC:Events for NDIRF
REFRESH-INTERVAL;VALUE=DURATION:PT1H
X-Robots-Tag:noindex
X-PUBLISHED-TTL:PT1H
BEGIN:VTIMEZONE
TZID:America/Chicago
BEGIN:DAYLIGHT
TZOFFSETFROM:-0600
TZOFFSETTO:-0500
TZNAME:CDT
DTSTART:20250309T080000
END:DAYLIGHT
BEGIN:STANDARD
TZOFFSETFROM:-0500
TZOFFSETTO:-0600
TZNAME:CST
DTSTART:20251102T070000
END:STANDARD
END:VTIMEZONE
BEGIN:VEVENT
DTSTART;TZID=America/Chicago:20251208T073000
DTEND;TZID=America/Chicago:20251209T120000
DTSTAMP:20260419T103554
CREATED:20251202T152835Z
LAST-MODIFIED:20251202T154514Z
UID:3807-1765179000-1765281600@www.ndirf.com
SUMMARY:NDTOA Annual Meeting and Convention
DESCRIPTION:
URL:https://www.ndirf.com/event/ndtoa-annual-meeting-and-convention/
LOCATION:Ramada Bismarck\, 1400 E Interchange Ave\, Bismarck\, ND\, 58501\, United States
CATEGORIES:NDIRF
END:VEVENT
END:VCALENDAR