BEGIN:VCALENDAR
VERSION:2.0
PRODID:-//NDIRF - ECPv6.2.2//NONSGML v1.0//EN
CALSCALE:GREGORIAN
METHOD:PUBLISH
X-ORIGINAL-URL:https://www.ndirf.com
X-WR-CALDESC:Events for NDIRF
REFRESH-INTERVAL;VALUE=DURATION:PT1H
X-Robots-Tag:noindex
X-PUBLISHED-TTL:PT1H
BEGIN:VTIMEZONE
TZID:America/Chicago
BEGIN:DAYLIGHT
TZOFFSETFROM:-0600
TZOFFSETTO:-0500
TZNAME:CDT
DTSTART:20250309T080000
END:DAYLIGHT
BEGIN:STANDARD
TZOFFSETFROM:-0500
TZOFFSETTO:-0600
TZNAME:CST
DTSTART:20251102T070000
END:STANDARD
END:VTIMEZONE
BEGIN:VEVENT
DTSTART;TZID=America/Chicago:20251217T100000
DTEND;TZID=America/Chicago:20251217T110000
DTSTAMP:20260419T103510
CREATED:20251203T173055Z
LAST-MODIFIED:20251203T173055Z
UID:3822-1765965600-1765969200@www.ndirf.com
SUMMARY:NDIRF Webinar with NDACo
DESCRIPTION:Topic: HR Basics for All Employees by Dani Krause\, NDIRF COO/Staff Legal Counsel \nJoin us for an informative and practical session designed for employees at every level of your organization. This presentation breaks down the most common HR and employment-law pitfalls facing North Dakota employers — from hiring practices and workplace investigations to wage-and-hour compliance\, employee leaves\, and open records/open meetings requirements. Using real-world examples\, clear explanations\, and actionable guidance\, attendees will learn how to spot risks early\, avoid costly mistakes\, and strengthen day-to-day HR practices. Whether you’re new to HR or a seasoned supervisor\, this session provides the essential tools to navigate compliance with confidence and create a safer\, more accountable workplace. \nClick here to register for the FREE Webinar
URL:https://www.ndirf.com/event/ndirf-webinar-with-ndaco-2/
CATEGORIES:HR Collab,NDIRF
END:VEVENT
BEGIN:VEVENT
DTSTART;TZID=America/Chicago:20251217T120000
DTEND;TZID=America/Chicago:20251217T120000
DTSTAMP:20260419T103510
CREATED:20251215T164009Z
LAST-MODIFIED:20251215T164009Z
UID:3829-1765972800-1765972800@www.ndirf.com
SUMMARY:Board of Directors Executive Committee Meeting Notice
DESCRIPTION:The Executive Committee of the Board of Directors of the North Dakota Insurance Reserve Fund (NDIRF) will hold a special meeting on December 17\, 2025\, at Noon CST. The meeting will be held virtually at https://ndirf.zoom.us/j/82166261357?pwd=12JOeSOOwVXzGIzzgkN4IiRZAjyzY5.1. \nThe meeting ID is 821 6626 1357\, and the access code is 872870. \nAt the time this notice is being prepared\, the Executive Committee of the Board of Directors of the NDIRF expects the agenda of its meeting to include the following topics: \n\nOpen Records Request Complaint Response\nAs allowed pursuant to N.D.C.C. § 44-04-19.2\, the Board of Directors of the NDIRF expects to enter into executive session under N.D.C.C. § 44-04-19.1(2) to receive its attorney’s advice and guidance on the legal risks\, strengths\, and weaknesses of an action that\, if held in public\, would have an adverse fiscal effect on the NDIRF.\n\n2. Claims Handling Compliance and Transparency \nDate of Notice: December 15\, 2025
URL:https://www.ndirf.com/event/board-of-directors-executive-committee-meeting-notice-2/
CATEGORIES:NDIRF
END:VEVENT
END:VCALENDAR