BEGIN:VCALENDAR
VERSION:2.0
PRODID:-//NDIRF - ECPv6.2.2//NONSGML v1.0//EN
CALSCALE:GREGORIAN
METHOD:PUBLISH
X-ORIGINAL-URL:https://www.ndirf.com
X-WR-CALDESC:Events for NDIRF
REFRESH-INTERVAL;VALUE=DURATION:PT1H
X-Robots-Tag:noindex
X-PUBLISHED-TTL:PT1H
BEGIN:VTIMEZONE
TZID:America/Chicago
BEGIN:DAYLIGHT
TZOFFSETFROM:-0600
TZOFFSETTO:-0500
TZNAME:CDT
DTSTART:20260308T080000
END:DAYLIGHT
BEGIN:STANDARD
TZOFFSETFROM:-0500
TZOFFSETTO:-0600
TZNAME:CST
DTSTART:20261101T070000
END:STANDARD
END:VTIMEZONE
BEGIN:VEVENT
DTSTART;TZID=America/Chicago:20260128T110000
DTEND;TZID=America/Chicago:20260130T120000
DTSTAMP:20260419T183151
CREATED:20260116T165437Z
LAST-MODIFIED:20260116T165437Z
UID:3924-1769598000-1769774400@www.ndirf.com
SUMMARY:76th ND County Roads Conference & Expo
DESCRIPTION:
URL:https://www.ndirf.com/event/76th-nd-county-roads-conference-expo/
LOCATION:Alerus Center\, 1200 42nd St\, Grand Forks\, ND\, 58201\, United States
CATEGORIES:NDIRF
END:VEVENT
BEGIN:VEVENT
DTSTART;TZID=America/Chicago:20260212T110000
DTEND;TZID=America/Chicago:20260212T110000
DTSTAMP:20260419T183151
CREATED:20251219T145432Z
LAST-MODIFIED:20260205T165738Z
UID:3844-1770894000-1770894000@www.ndirf.com
SUMMARY:NDIRF Nominating Committee Meeting
DESCRIPTION:BOARD OF DIRECTORS MEETING NOTICE\nNOMINATING COMMITTEE \nThe Nominating Committee of the Board of Directors of the North Dakota Insurance Reserve Fund (NDIRF) will hold a regularly scheduled meeting on February 12\, 2026\, at 11:00 am. The meeting will be held in person at 1022 E Divide Ave\, Bismarck\, ND and via Zoom at: \nhttps://ndirf.zoom.us/j/86830647683?pwd=5MyZWYSCmNv5KTet0gMTZcumB9bZQb.1 \nMeeting ID: 868 3064 7683            Passcode: 982731 \nAt the time this notice is being prepared\, the NDIRF Board of Directors expects the agenda of its meeting to include the following topics: \n\nAction on Minutes of February 6\, 2025 Nominating Committee Meeting\nReview and recommendation of candidates for the 2026 NDIRF Board of Directors Election\n\nDate of Notice: February 4\, 2026
URL:https://www.ndirf.com/event/ndirf-nominating-committee-meeting-2/
CATEGORIES:NDIRF
END:VEVENT
BEGIN:VEVENT
DTSTART;TZID=America/Chicago:20260212T120000
DTEND;TZID=America/Chicago:20260212T120000
DTSTAMP:20260419T183151
CREATED:20251219T145515Z
LAST-MODIFIED:20260205T165415Z
UID:3846-1770897600-1770897600@www.ndirf.com
SUMMARY:NDIRF Finance Committee Meeting
DESCRIPTION:BOARD OF DIRECTORS MEETING NOTICE\nFINANCE COMMITTEE  \nThe Finance Committee of the Board of Directors of the North Dakota Insurance Reserve Fund (NDIRF) will hold a regularly scheduled meeting on February 12\, 2026\, at 12:00 P.M. The meeting will be held in person at 1022 E Divide Ave\, Bismarck\, ND and via Zoom at: \nhttps://ndirf.zoom.us/j/84284718994?pwd=ARgBpW31icA3YiesLhOm9rRCwXFqqw.1 \nMeeting ID: 842 8471 8994            Passcode: 400498 \nAt the time this notice is being prepared\, the Finance Committee of the NDIRF Board of Directors expects the agenda of its meeting to include the following topics: \n  \n\nAction on November 6\, 2025\, NDIRF Finance Committee Meeting Minutes\nReview 2025 4th Quarter Investment Report\nReview NDIRF Investment and Members Equity Policy\nApprove Investment Objectives and Benchmarks\nEstablish Members’ Equity Target\nAnnual Evaluation of Portfolio Management for the 2025 Calendar Year\nAmendment of NDIRF Salary Schedule Plan (Appendix A) of the 2026 Budget\n\nDate of Notice: February 5\, 2026
URL:https://www.ndirf.com/event/ndirf-finance-committee-meeting-7/
CATEGORIES:NDIRF
END:VEVENT
BEGIN:VEVENT
DTSTART;TZID=America/Chicago:20260212T130000
DTEND;TZID=America/Chicago:20260212T130000
DTSTAMP:20260419T183151
CREATED:20251219T145931Z
LAST-MODIFIED:20260210T204325Z
UID:3834-1770901200-1770901200@www.ndirf.com
SUMMARY:NDIRF Board of Directors Meeting
DESCRIPTION:BOARD OF DIRECTORS MEETING NOTICE \nThe Board of Directors of the North Dakota Insurance Reserve Fund (NDIRF) will hold a regularly scheduled meeting on February 12\, 2026\, at 1:00 P.M. The meeting will be held in person at 1022 E Divide Ave\, Bismarck\, ND and via Zoom at: \nhttps://ndirf.zoom.us/j/85207355645?pwd=6HR4lpS86g5TEubB9aQTwa2V29bNcG.1 \nMeeting ID: 852 0735 5645            Passcode: 756992 \nAt the time this notice is being prepared\, the NDIRF Board of Directors expects the agenda of its meeting to include the following topics: \n\n\n\nAction on December 4\, 2025\, NDIRF Board Meeting Minutes\nReports\n\n\n\nA. Chairperson’s Report \nB. Reports of Board Members \nC. CEO’s Report \nD. General Counsel Report \nE. Finance Department Report \nF. Claims Department Report \nG. Underwriting Department Report \nH. Member Services Department Report \nI. IT Department Report \nJ. Nominating Committee Report and Recommendations \nK. Finance Committee Report \n  \n\n\n\nUnfinished Business:\n\n\n\nA. Application of Depreciation on Third Party Claims \n  \n\n\n\nNew Business:\n\n\n\nA. Reinsurance Market Presentation \nB. Amendment of Bylaws and Resolution \nC. 2025 NDIRF Actuarial Report \nD. 70th Legislative Assembly Planning \nE. 2026 Board Training Seminar Plans Update \nDate of Notice: February 10\, 2026
URL:https://www.ndirf.com/event/ndirf-board-of-directors-meeting-14/
CATEGORIES:NDIRF
END:VEVENT
BEGIN:VEVENT
DTSTART;TZID=America/Chicago:20260227T080000
DTEND;TZID=America/Chicago:20260301T170000
DTSTAMP:20260419T183151
CREATED:20260225T164107Z
LAST-MODIFIED:20260225T164630Z
UID:4146-1772179200-1772384400@www.ndirf.com
SUMMARY:NDFA State Fire School Vendor Show
DESCRIPTION:
URL:https://www.ndirf.com/event/ndfa-state-fire-school-vendor-show/
LOCATION:North Dakota State Fairgrounds\, 2005 Burdick Expressway East\, Minot\, ND\, 58701\, United States
CATEGORIES:NDIRF
END:VEVENT
BEGIN:VEVENT
DTSTART;TZID=America/Chicago:20260422T080000
DTEND;TZID=America/Chicago:20260423T170000
DTSTAMP:20260419T183151
CREATED:20260107T150159Z
LAST-MODIFIED:20260330T150104Z
UID:3784-1776844800-1776963600@www.ndirf.com
SUMMARY:2026 HR Collaborative Conference
DESCRIPTION:The 2026 HR Collaborative – Engage 360 Conference is April 22-23\, 2026\, at the Bismarck Hotel and Conference Center (Bismarck\, N.D.). \nThis conference is designed to support local government employees who perform human resource-related functions within their entities\, including HR professionals\, supervisors\, and those interested in employee management and growth. All local government employees are welcome to attend. \nRegister for the 2026 HR Collaborative – Engage 360 Conference\nJoin us for the 2026 HR Collaborative – Engage 360 Conference on April 22-23\, 2026\, in Bismarck! \nHR COLLABORATIVE MEMBER PRICING: $150\nREGULAR PRICING: $200 \nClick this link to register for the Engage 360 Conference \nEvent Details\nFULL CONFERENCE AGENDA\nCONFERENCE SPEAKERS \n\nJoin the HR Collaborative for FREE\nIf you are not yet a member of the HR Collaborative\, join for FREE to get $50 off registration for the 2026 HR Collaborative – Engage 360 Conference! \nClick this link to join the HR Collaborative for FREE \nContact HRCollaborative@ndirf.com with any questions.
URL:https://www.ndirf.com/event/2026-hr-collaborative-conference/
LOCATION:Bismarck Hotel & Conference Center (formerly Ramkota Hotel)\, 800 S 3rd St\, Bismarck\, ND\, 58504\, United States
CATEGORIES:HR Collab,NDIRF
END:VEVENT
BEGIN:VEVENT
DTSTART;TZID=America/Chicago:20260428T100000
DTEND;TZID=America/Chicago:20260428T100000
DTSTAMP:20260419T183151
CREATED:20260401T212514Z
LAST-MODIFIED:20260401T212945Z
UID:4193-1777370400-1777370400@www.ndirf.com
SUMMARY:NDIRF Board of Directors Executive Committee Meeting
DESCRIPTION:BOARD OF DIRECTORS\nEXECUTIVE COMMITTEE MEETING NOTICE \nThe Executive Committee of the Board of Directors of the North Dakota Insurance Reserve Fund (NDIRF) will hold a special meeting on April 28\, 2026\, at 10:00 AM Central. The meeting will be held virtually at https://ndirf.zoom.us/j/82660080829?pwd=7Z60u6U1ySDKNGh73frpIeWEa2GT6N.1 \nThe meeting ID is 826 6008 0829\, and the access code is 168307. \nAt the time this notice is being prepared\, the Executive Committee of the Board of Directors of the NDIRF expects the agenda of its meeting to include the following topics: \n\nManhattan Building Long-term Planning\nBranding and Name Considerations Discussion\n\nDate of Notice: April 1\, 2026
URL:https://www.ndirf.com/event/ndirf-board-of-directors-executive-committee-meeting-3/
CATEGORIES:NDIRF
END:VEVENT
BEGIN:VEVENT
DTSTART;TZID=America/Chicago:20260507T080000
DTEND;TZID=America/Chicago:20260507T080000
DTSTAMP:20260419T183151
CREATED:20251219T145540Z
LAST-MODIFIED:20251219T145540Z
UID:3848-1778140800-1778140800@www.ndirf.com
SUMMARY:NDIRF Finance Committee Meeting
DESCRIPTION:
URL:https://www.ndirf.com/event/ndirf-finance-committee-meeting-8/
CATEGORIES:NDIRF
END:VEVENT
BEGIN:VEVENT
DTSTART;TZID=America/Chicago:20260507T120000
DTEND;TZID=America/Chicago:20260507T120000
DTSTAMP:20260419T183151
CREATED:20251219T145602Z
LAST-MODIFIED:20260205T202042Z
UID:3837-1778155200-1778155200@www.ndirf.com
SUMMARY:NDIRF Board of Directors Meeting
DESCRIPTION:
URL:https://www.ndirf.com/event/ndirf-board-of-directors-meeting-11/
CATEGORIES:NDIRF
END:VEVENT
BEGIN:VEVENT
DTSTART;TZID=America/Chicago:20260910T120000
DTEND;TZID=America/Chicago:20260910T120000
DTSTAMP:20260419T183151
CREATED:20251219T145623Z
LAST-MODIFIED:20251219T145623Z
UID:3850-1789041600-1789041600@www.ndirf.com
SUMMARY:NDIRF Finance Committee Meeting
DESCRIPTION:
URL:https://www.ndirf.com/event/ndirf-finance-committee-meeting-9/
CATEGORIES:NDIRF
END:VEVENT
BEGIN:VEVENT
DTSTART;TZID=America/Chicago:20260910T130000
DTEND;TZID=America/Chicago:20260910T130000
DTSTAMP:20260419T183151
CREATED:20251219T145703Z
LAST-MODIFIED:20251219T145703Z
UID:3839-1789045200-1789045200@www.ndirf.com
SUMMARY:NDIRF Board of Directors Meeting
DESCRIPTION:
URL:https://www.ndirf.com/event/ndirf-board-of-directors-meeting-12/
CATEGORIES:NDIRF
END:VEVENT
BEGIN:VEVENT
DTSTART;TZID=America/Chicago:20261112T093000
DTEND;TZID=America/Chicago:20261112T093000
DTSTAMP:20260419T183151
CREATED:20251219T145731Z
LAST-MODIFIED:20251219T145731Z
UID:3852-1794475800-1794475800@www.ndirf.com
SUMMARY:NDIRF Finance Committee Meeting
DESCRIPTION:
URL:https://www.ndirf.com/event/ndirf-finance-committee-meeting-10/
CATEGORIES:NDIRF
END:VEVENT
BEGIN:VEVENT
DTSTART;TZID=America/Chicago:20261203T093000
DTEND;TZID=America/Chicago:20261203T093000
DTSTAMP:20260419T183151
CREATED:20251219T145752Z
LAST-MODIFIED:20251219T145752Z
UID:3842-1796290200-1796290200@www.ndirf.com
SUMMARY:NDIRF Board of Directors Meeting
DESCRIPTION:
URL:https://www.ndirf.com/event/ndirf-board-of-directors-meeting-13/
CATEGORIES:NDIRF
END:VEVENT
END:VCALENDAR